BEGIN:VCALENDAR
VERSION:2.0
PRODID:-//CERN//INDICO//EN
BEGIN:VEVENT
SUMMARY:Atom interferometry : from practical quantum sensing to fundamenta
 l physics searches
DTSTART:20260414T080000Z
DTEND:20260414T090000Z
DTSTAMP:20260423T223823Z
UID:indico-event-1671468@indico.cern.ch
DESCRIPTION:Atom interferometry\, where quantum superposition is harnessed
  to perform high-precision measurements of physical quantities\, has emerg
 ed as a versatile technique for both practical sensing applications and fu
 ndamental physics searches.\nIn this general-audience talk\, we review the
  basics of atom interferometry and its main application areas.\nWe discuss
  some of the current main challenges towards the realisation of long-basel
 ine atom-interferometry-based detectors for high-energy physics searches\,
  and present ongoing work aimed at enabling large momentum transfer interf
 erometry.\n\nhttps://indico.cern.ch/event/1671468/
LOCATION:CERN 40/S2-D01 - Salle Dirac
URL:https://indico.cern.ch/event/1671468/
END:VEVENT
END:VCALENDAR
